BEGIN:VCALENDAR
VERSION:2.0
PRODID:-//Essex County Black Experience - ECPv6.15.18//NONSGML v1.0//EN
CALSCALE:GREGORIAN
METHOD:PUBLISH
X-ORIGINAL-URL:https://essexheritage.org/essexcountyblackexperience
X-WR-CALDESC:Events for Essex County Black Experience
REFRESH-INTERVAL;VALUE=DURATION:PT1H
X-Robots-Tag:noindex
X-PUBLISHED-TTL:PT1H
BEGIN:VTIMEZONE
TZID:America/New_York
BEGIN:DAYLIGHT
TZOFFSETFROM:-0500
TZOFFSETTO:-0400
TZNAME:EDT
DTSTART:20220313T070000
END:DAYLIGHT
BEGIN:STANDARD
TZOFFSETFROM:-0400
TZOFFSETTO:-0500
TZNAME:EST
DTSTART:20221106T060000
END:STANDARD
BEGIN:DAYLIGHT
TZOFFSETFROM:-0500
TZOFFSETTO:-0400
TZNAME:EDT
DTSTART:20230312T070000
END:DAYLIGHT
BEGIN:STANDARD
TZOFFSETFROM:-0400
TZOFFSETTO:-0500
TZNAME:EST
DTSTART:20231105T060000
END:STANDARD
BEGIN:DAYLIGHT
TZOFFSETFROM:-0500
TZOFFSETTO:-0400
TZNAME:EDT
DTSTART:20240310T070000
END:DAYLIGHT
BEGIN:STANDARD
TZOFFSETFROM:-0400
TZOFFSETTO:-0500
TZNAME:EST
DTSTART:20241103T060000
END:STANDARD
END:VTIMEZONE
BEGIN:VEVENT
DTSTART;TZID=America/New_York:20230614T163000
DTEND;TZID=America/New_York:20230614T180000
DTSTAMP:20260419T084955
CREATED:20230518T122905Z
LAST-MODIFIED:20230518T123923Z
UID:10000013-1686760200-1686765600@essexheritage.org
SUMMARY:Juneteenth Flag Raising Ceremony Marblehead
DESCRIPTION:Marblehead will be hosting their Juneteenth flag raising ceremony at Abbot Hall.
URL:https://essexheritage.org/essexcountyblackexperience/event/juneteenth-flag-raising-ceremony-marblehead/
LOCATION:Abbot Hall\, 188 Washington Street\, Marblehead\, MA\, 01945\, United States
END:VEVENT
END:VCALENDAR