BEGIN:VCALENDAR
VERSION:2.0
PRODID:-//Essex National Heritage Area - ECPv6.15.18//NONSGML v1.0//EN
CALSCALE:GREGORIAN
METHOD:PUBLISH
X-WR-CALNAME:Essex National Heritage Area
X-ORIGINAL-URL:https://essexheritage.org
X-WR-CALDESC:Events for Essex National Heritage Area
REFRESH-INTERVAL;VALUE=DURATION:PT1H
X-Robots-Tag:noindex
X-PUBLISHED-TTL:PT1H
BEGIN:VTIMEZONE
TZID:America/New_York
BEGIN:DAYLIGHT
TZOFFSETFROM:-0500
TZOFFSETTO:-0400
TZNAME:EDT
DTSTART:20210314T070000
END:DAYLIGHT
BEGIN:STANDARD
TZOFFSETFROM:-0400
TZOFFSETTO:-0500
TZNAME:EST
DTSTART:20211107T060000
END:STANDARD
BEGIN:DAYLIGHT
TZOFFSETFROM:-0500
TZOFFSETTO:-0400
TZNAME:EDT
DTSTART:20220313T070000
END:DAYLIGHT
BEGIN:STANDARD
TZOFFSETFROM:-0400
TZOFFSETTO:-0500
TZNAME:EST
DTSTART:20221106T060000
END:STANDARD
BEGIN:DAYLIGHT
TZOFFSETFROM:-0500
TZOFFSETTO:-0400
TZNAME:EDT
DTSTART:20230312T070000
END:DAYLIGHT
BEGIN:STANDARD
TZOFFSETFROM:-0400
TZOFFSETTO:-0500
TZNAME:EST
DTSTART:20231105T060000
END:STANDARD
END:VTIMEZONE
BEGIN:VEVENT
DTSTART;TZID=America/New_York:20220507T090000
DTEND;TZID=America/New_York:20220507T230000
DTSTAMP:20260419T092258
CREATED:20220316T183534Z
LAST-MODIFIED:20220422T130342Z
UID:10000022-1651914000-1651964400@essexheritage.org
SUMMARY:Teaching Hidden Histories Workshop 5
DESCRIPTION:Join us on May 7 as we continue to explore “The Struggle for Liberty\, Equality\, and Property: Examining Resistance to Exclusionary Policies Against Black People in Essex County”. \nThe history of Black people’s experiences in Essex County\, MA\, including institutional integration\, community activism\, and hard-fought access to fundamental rights\, offers a rich set of stories for our students to explore. In this workshop\, we examine how these experiences exemplify a larger history of structural policies of exclusion and prejudice\, but also perseverance and change. \nJoin us as we work to answer many questions about this history and its relevance today\, including: \n\nWhat are some exemplary stories of Black people’s experiences in our region that highlight larger themes of exclusion and the fight for access?\nHow can primary sources from the region’s past as well as contemporary voices in the local Black community inform our understanding of how to approach this topic with our students?\n\nContributors: \nDr. Kabria Baumgartner\, Dean’s Associate Professor of History and Africana Studies and \nAssociate Director of Public History\, Northeastern University; principal investigator\, African Americans in Essex County\, Massachusetts: An Annotated Guide ; author of In Pursuit of Knowledge: Black Women and Educational Activism in Antebellum America \nDr. Kerri Greenidge\, Mellon Assistant Professor\, Department of Studies in Race\, Colonialism\, and Diaspora\, Tufts University; author of Black Radical\, The Life and Times of William Monroe Trotter. \nDoneeca Thurston\, Director\, Lynn Museum and Lynn Arts \nEdward Carson\, Dean of Multicultural Education and member of the History Department \nThe Governor’s Academy\, Byfield\, Massachusetts \nMore information at: https://usingessexhistory.org/teachinghiddenhistories  \n\n\n\n\n\nREGISTER HERE >>
URL:https://essexheritage.org/event/teaching-hidden-histories-workshop-5/
LOCATION:Zoom
ATTACH;FMTTYPE=image/jpeg:https://essexheritage.org/wp-content/uploads/2022/03/hidden_histories_cropped.jpg
END:VEVENT
END:VCALENDAR