BEGIN:VCALENDAR
VERSION:2.0
PRODID:-//Rev 250 - ECPv6.15.18//NONSGML v1.0//EN
CALSCALE:GREGORIAN
METHOD:PUBLISH
X-ORIGINAL-URL:https://essexheritage.org/rev250
X-WR-CALDESC:Events for Rev 250
REFRESH-INTERVAL;VALUE=DURATION:PT1H
X-Robots-Tag:noindex
X-PUBLISHED-TTL:PT1H
BEGIN:VTIMEZONE
TZID:America/New_York
BEGIN:DAYLIGHT
TZOFFSETFROM:-0500
TZOFFSETTO:-0400
TZNAME:EDT
DTSTART:20230312T070000
END:DAYLIGHT
BEGIN:STANDARD
TZOFFSETFROM:-0400
TZOFFSETTO:-0500
TZNAME:EST
DTSTART:20231105T060000
END:STANDARD
BEGIN:DAYLIGHT
TZOFFSETFROM:-0500
TZOFFSETTO:-0400
TZNAME:EDT
DTSTART:20240310T070000
END:DAYLIGHT
BEGIN:STANDARD
TZOFFSETFROM:-0400
TZOFFSETTO:-0500
TZNAME:EST
DTSTART:20241103T060000
END:STANDARD
BEGIN:DAYLIGHT
TZOFFSETFROM:-0500
TZOFFSETTO:-0400
TZNAME:EDT
DTSTART:20250309T070000
END:DAYLIGHT
BEGIN:STANDARD
TZOFFSETFROM:-0400
TZOFFSETTO:-0500
TZNAME:EST
DTSTART:20251102T060000
END:STANDARD
END:VTIMEZONE
BEGIN:VEVENT
DTSTART;TZID=America/New_York:20241124T133000
DTEND;TZID=America/New_York:20241124T150000
DTSTAMP:20260421T062907
CREATED:20241121T194606Z
LAST-MODIFIED:20241121T194942Z
UID:10000065-1732455000-1732460400@essexheritage.org
SUMMARY:Suing Their Enslavers: 18th century Freedom-Seekers in Andover
DESCRIPTION:First lecture in the series\, Freedom and Unfreedom in Essex County \nSuing Their Enslavers: 18th Century Freedom-Seekers in Andover \nA lecture given by Christine Boehmer\, independent historian \nNot all Native Americans in Massachusetts were invited to celebrate the harvest with English colonists. Some were enslaved by the colonists. In Andover in the 17th and 18th centuries\, wealthy white families commonly enslaved one or more Africans or Native Americans. Join us on Sunday afternoon November 24th from 1:30 – 3:00 when Andover independent historian\, Chris Boehmer\, will share the inspiring stories of siblings Peter Almonach Bridges and Kate Phelps\, born in Andover to an enslaved African and Native American couple. In the 1760s Peter and Kate took their enslaver\, Moody Bridges\, to court and won their freedom. \nThe lecture is an in-person presentation. However\, all registrants will receive an email the day before the event with a ZOOM option for participation. With this type of ZOOM presentation you will be able to ask questions or make comments in the chat room only. Your questions will be answered live on the ZOOM video after the lecturer has finished the presentation. \nClick HERE to purchase tickets
URL:https://essexheritage.org/rev250/event/suing-their-enslavers-18th-century-freedom-seekers-in-andover/
LOCATION:Andover Center for History and Culture\, 97 Main Street\, Andover\, MA\, 01970\, United States
ATTACH;FMTTYPE=image/png:https://essexheritage.org/rev250/wp-content/uploads/sites/5/2024/11/Screenshot-2024-11-21-144548.png
END:VEVENT
END:VCALENDAR