BEGIN:VCALENDAR
VERSION:2.0
PRODID:-//Rev 250 - ECPv6.15.18//NONSGML v1.0//EN
CALSCALE:GREGORIAN
METHOD:PUBLISH
X-WR-CALNAME:Rev 250
X-ORIGINAL-URL:https://essexheritage.org/rev250
X-WR-CALDESC:Events for Rev 250
REFRESH-INTERVAL;VALUE=DURATION:PT1H
X-Robots-Tag:noindex
X-PUBLISHED-TTL:PT1H
BEGIN:VTIMEZONE
TZID:America/New_York
BEGIN:DAYLIGHT
TZOFFSETFROM:-0500
TZOFFSETTO:-0400
TZNAME:EDT
DTSTART:20250309T070000
END:DAYLIGHT
BEGIN:STANDARD
TZOFFSETFROM:-0400
TZOFFSETTO:-0500
TZNAME:EST
DTSTART:20251102T060000
END:STANDARD
BEGIN:DAYLIGHT
TZOFFSETFROM:-0500
TZOFFSETTO:-0400
TZNAME:EDT
DTSTART:20260308T070000
END:DAYLIGHT
BEGIN:STANDARD
TZOFFSETFROM:-0400
TZOFFSETTO:-0500
TZNAME:EST
DTSTART:20261101T060000
END:STANDARD
BEGIN:DAYLIGHT
TZOFFSETFROM:-0500
TZOFFSETTO:-0400
TZNAME:EDT
DTSTART:20270314T070000
END:DAYLIGHT
BEGIN:STANDARD
TZOFFSETFROM:-0400
TZOFFSETTO:-0500
TZNAME:EST
DTSTART:20271107T060000
END:STANDARD
END:VTIMEZONE
BEGIN:VEVENT
DTSTART;TZID=America/New_York:20260306T190000
DTEND;TZID=America/New_York:20260306T203000
DTSTAMP:20260420T114716
CREATED:20260217T192423Z
LAST-MODIFIED:20260302T205043Z
UID:10000300-1772823600-1772829000@essexheritage.org
SUMMARY:Newburyport's Road to Independence III: Loyalists\, Prisoners\, and the Homefront
DESCRIPTION:In 1776\, as war raged across the American colonies\, the clash of armies echoed far beyond the battlefield into everyday life in Newburyport. Historian and fan favorite Alex Cain invites you to step into a time where loyalists were persecuted\, British prisoners were confined\, and families struggled with soaring prices\, shortages\, and the constant shadow of loss from combat. At the same time\, privateer prizes poured into the harbor\, flooding the port with captured riches and stirring hope of fantastic opportunities. Through hardship and adversity alike\, Newburyport pressed on in its determined drive toward independence. \nAlex has authored numerous research articles and presentations on the American Revolution\, including the Battles of Lexington\, Concord\, and Bunker Hill\, the Siege of Boston\,Massachusetts privateers and the experiences of New England and New York loyalist refugees during the Burgoyne Campaign. In addition\, he has published two books: We Stood Our Ground: Lexington in the First Year of the American Revolution and I See Nothing but the Horrors of a Civil War: The Loyalists of McAlpin’s Corps of American Volunteers. He is also the creator of the blog and podcast Historical Nerdery (historicalnerdery.com). Currently\, he is in the process of writing his next book\, “For God’s Sake\, Fire!” – The Massachusetts Militia System on the Eve of the Battles of Lexington and Concord\, which is anticipated to be released in 2027. \n**NOTE: Please only sign up for the number of tickets you need based on a single membership. If you are a member of multiple organizations\, just pick ONE of them to sign up under. For example: You want 2 tickets to the event and you are a current member of both the MOON and CHMM. Chose just ONE organization and sign up for your 2 tickets. Thank you! Any questions\, please call us at the Museum of Old Newbury at 978-462-2681. \nCLICK HERE to purchase tickets \nFunded\, in part\, by the Massachusetts Office of Travel & Tourism
URL:https://essexheritage.org/rev250/event/newburyports-road-to-independence-iii-loyalists-prisoners-and-the-homefront/
LOCATION:St. Paul’s Episcopal Church\, 166 High Street\, Newburyport\, MA\, 01950\, United States
ATTACH;FMTTYPE=image/jpeg:https://essexheritage.org/rev250/wp-content/uploads/sites/5/2026/02/https___cdn.evbuc_.com_images_1176015016_166848231891_1_original.jpg
ORGANIZER;CN="Museum of Old Newbury":MAILTO:info@newburyhistory.org
END:VEVENT
END:VCALENDAR