BEGIN:VCALENDAR
VERSION:2.0
PRODID:-//Rev 250 - ECPv6.15.18//NONSGML v1.0//EN
CALSCALE:GREGORIAN
METHOD:PUBLISH
X-ORIGINAL-URL:https://essexheritage.org/rev250
X-WR-CALDESC:Events for Rev 250
REFRESH-INTERVAL;VALUE=DURATION:PT1H
X-Robots-Tag:noindex
X-PUBLISHED-TTL:PT1H
BEGIN:VTIMEZONE
TZID:America/New_York
BEGIN:DAYLIGHT
TZOFFSETFROM:-0500
TZOFFSETTO:-0400
TZNAME:EDT
DTSTART:20250309T070000
END:DAYLIGHT
BEGIN:STANDARD
TZOFFSETFROM:-0400
TZOFFSETTO:-0500
TZNAME:EST
DTSTART:20251102T060000
END:STANDARD
BEGIN:DAYLIGHT
TZOFFSETFROM:-0500
TZOFFSETTO:-0400
TZNAME:EDT
DTSTART:20260308T070000
END:DAYLIGHT
BEGIN:STANDARD
TZOFFSETFROM:-0400
TZOFFSETTO:-0500
TZNAME:EST
DTSTART:20261101T060000
END:STANDARD
BEGIN:DAYLIGHT
TZOFFSETFROM:-0500
TZOFFSETTO:-0400
TZNAME:EDT
DTSTART:20270314T070000
END:DAYLIGHT
BEGIN:STANDARD
TZOFFSETFROM:-0400
TZOFFSETTO:-0500
TZNAME:EST
DTSTART:20271107T060000
END:STANDARD
END:VTIMEZONE
BEGIN:VEVENT
DTSTART;TZID=America/New_York:20260408T200000
DTEND;TZID=America/New_York:20260408T203000
DTSTAMP:20260420T095433
CREATED:20260325T153240Z
LAST-MODIFIED:20260325T175154Z
UID:10000309-1775678400-1775680200@essexheritage.org
SUMMARY:Captain Michael Corbett and the Pitt Packet Incident in 1769
DESCRIPTION:Early revolutionary resistance!\n\nHear the dramatic tale of Michael Corbett and his Marblehead shipmates who resisted British tyranny at sea on King Hooper’s merchant ship\, the Pitt Packet – named after a British prime minister who was sympathetic to Americans’ grievances – a full year before the 1770 Boston “Massacre” and six years before the Revolutionary War’s first battle in 1775. After the mariners killed a British officer who was trying to impress them into British Navy service\, they were brought to trial in Boston but were successfully acquitted by a young\, unknown lawyer named John Adams. That case launched Adams into professional and political prominence\, which grew after Adams successfully defended some British officers a year later\, after the so-called “Boston Massacre” on March 5 in 1770. In 1775\, Corbett and most of the others would become ship masters on privateer vessels –a role that accounted for most of Marblehead’s men’s deaths in the Revolution\, including Corbett’s. \nDonald Doliber was appointed as Marblehead’s Town Historian after 24 years as an award-winning history teacher\, who was selected as the “Outstanding American History Teacher in the United States” by the Daughters of the American Revolution (D.A.R.)\, followed by 17 years as an assistant high school principal. His ancestors arrived in Marblehead in the 1630s and were fishermen\, selectmen\, and merchants in the early community\, and later\, a few served in the Revolutionary War. \nThis event is presented in collaboration with the Marblehead 250 Committee and Abbot Public Library.  \nThis program is funded in part by a grant from the Marblehead Cultural Council\, a local agency which is supported by the Massachusetts Cultural Council\, a state agency.
URL:https://essexheritage.org/rev250/event/captain-michael-corbett-and-the-pitt-packet-incident-in-1769/
LOCATION:Abbot Public Library\, 3 Brook Road\, Marblehead\, MA\, 01945\, United States
ATTACH;FMTTYPE=image/jpeg:https://essexheritage.org/rev250/wp-content/uploads/sites/5/2026/03/april-8-18th-c-drawing-inscription-by-ashley-bowen-of-marbehead-courtesy-of-mhd-mus_583_md-1.jpg
END:VEVENT
END:VCALENDAR