BEGIN:VCALENDAR
VERSION:2.0
PRODID:-//Rev 250 - ECPv6.15.18//NONSGML v1.0//EN
CALSCALE:GREGORIAN
METHOD:PUBLISH
X-ORIGINAL-URL:https://essexheritage.org/rev250
X-WR-CALDESC:Events for Rev 250
REFRESH-INTERVAL;VALUE=DURATION:PT1H
X-Robots-Tag:noindex
X-PUBLISHED-TTL:PT1H
BEGIN:VTIMEZONE
TZID:America/New_York
BEGIN:DAYLIGHT
TZOFFSETFROM:-0500
TZOFFSETTO:-0400
TZNAME:EDT
DTSTART:20250309T070000
END:DAYLIGHT
BEGIN:STANDARD
TZOFFSETFROM:-0400
TZOFFSETTO:-0500
TZNAME:EST
DTSTART:20251102T060000
END:STANDARD
BEGIN:DAYLIGHT
TZOFFSETFROM:-0500
TZOFFSETTO:-0400
TZNAME:EDT
DTSTART:20260308T070000
END:DAYLIGHT
BEGIN:STANDARD
TZOFFSETFROM:-0400
TZOFFSETTO:-0500
TZNAME:EST
DTSTART:20261101T060000
END:STANDARD
BEGIN:DAYLIGHT
TZOFFSETFROM:-0500
TZOFFSETTO:-0400
TZNAME:EDT
DTSTART:20270314T070000
END:DAYLIGHT
BEGIN:STANDARD
TZOFFSETFROM:-0400
TZOFFSETTO:-0500
TZNAME:EST
DTSTART:20271107T060000
END:STANDARD
END:VTIMEZONE
BEGIN:VEVENT
DTSTART;TZID=America/New_York:20260409T180000
DTEND;TZID=America/New_York:20260409T190000
DTSTAMP:20260420T095606
CREATED:20260318T202019Z
LAST-MODIFIED:20260325T183623Z
UID:10000306-1775757600-1775761200@essexheritage.org
SUMMARY:"(Bitter)sweet Chocolate: Exploring 18th Century Chocolate From Bean to Beverage"
DESCRIPTION:Join award-winning historian and educator Michele Gabrielson for a delectable journey through taste\, tradition\, and transformation in the world of 18th-century chocolate. This interactive program explores the fascinating history of chocolate during the 18th century\, a pivotal time when this once-exclusive beverage became a beloved delicacy across the world. We will examine the origins of chocolate\, tracing its journey from Mesoamerica to its introduction in Spain and subsequent spread across the continent and back to the American colonies. The program concludes by sampling chocolate that would have been enjoyed by colonists! \n \nMichele Gabrielson is an award-winning local history teacher and 18th-century historic interpreter.  Ms. Gabrielson serves as the secretary for the nonprofit Mercy Otis Warren Society\, is a member of the Authenticity Standards Committee for Minuteman National Historic Park\, and is the coordinator for the Battle Road Guides for the annual reenactment of the Battle of Lexington and Concord. She was awarded a 2024 Rising Star Award for Public History by the Massachusetts History Alliance for her programming titled “The Revolutionary Classroom” and named a finalist for the 2024 Massachusetts History Teacher of the Year.  She was the Massachusetts Daughters of the American Revolution’s Outstanding History Teacher of the Year for 2025 and the 2025 winner of the Fred Graham Award for Excellence in Teaching from the Massachusetts Society of the Cincinnati. \n@the_revolutionary_classroom
URL:https://essexheritage.org/rev250/event/bittersweet-chocolate-exploring-18th-century-chocolate-from-bean-to-beverage/
LOCATION:Andover Center for History and Culture\, 97 Main Street\, Andover\, MA\, 01970\, United States
ATTACH;FMTTYPE=image/png:https://essexheritage.org/rev250/wp-content/uploads/sites/5/2026/03/ss1k6fvi0jfjebd1ches.png
END:VEVENT
END:VCALENDAR