BEGIN:VCALENDAR
VERSION:2.0
PRODID:-//Rev 250 - ECPv6.15.18//NONSGML v1.0//EN
CALSCALE:GREGORIAN
METHOD:PUBLISH
X-ORIGINAL-URL:https://essexheritage.org/rev250
X-WR-CALDESC:Events for Rev 250
REFRESH-INTERVAL;VALUE=DURATION:PT1H
X-Robots-Tag:noindex
X-PUBLISHED-TTL:PT1H
BEGIN:VTIMEZONE
TZID:America/New_York
BEGIN:DAYLIGHT
TZOFFSETFROM:-0500
TZOFFSETTO:-0400
TZNAME:EDT
DTSTART:20250309T070000
END:DAYLIGHT
BEGIN:STANDARD
TZOFFSETFROM:-0400
TZOFFSETTO:-0500
TZNAME:EST
DTSTART:20251102T060000
END:STANDARD
BEGIN:DAYLIGHT
TZOFFSETFROM:-0500
TZOFFSETTO:-0400
TZNAME:EDT
DTSTART:20260308T070000
END:DAYLIGHT
BEGIN:STANDARD
TZOFFSETFROM:-0400
TZOFFSETTO:-0500
TZNAME:EST
DTSTART:20261101T060000
END:STANDARD
BEGIN:DAYLIGHT
TZOFFSETFROM:-0500
TZOFFSETTO:-0400
TZNAME:EDT
DTSTART:20270314T070000
END:DAYLIGHT
BEGIN:STANDARD
TZOFFSETFROM:-0400
TZOFFSETTO:-0500
TZNAME:EST
DTSTART:20271107T060000
END:STANDARD
END:VTIMEZONE
BEGIN:VEVENT
DTSTART;TZID=America/New_York:20260414T183000
DTEND;TZID=America/New_York:20260414T203000
DTSTAMP:20260420T095444
CREATED:20260325T183336Z
LAST-MODIFIED:20260325T183336Z
UID:10000319-1776191400-1776198600@essexheritage.org
SUMMARY:American Art at 250 with Jane Oneail
DESCRIPTION:Join us in celebrating America’s extraordinary artistic legacy as we commemorate our nation’s 250th anniversary with a curated exploration of the masterworks that \nhave defined our cultural identity. From the luminous landscapes of the Hudson River School to the bold innovations of Abstract Expressionism\, this program \nshowcases the diverse voices and revolutionary spirits that have shaped American art across two and a half centuries. Discover how American artists have \ncontinuously redefined not only our visual culture\, but art itself on the world stage. \n  \nAbout the presenter: \nJane Oneail is the founder of Culturally Curious\, a company that curates and presents art appreciation programs. Jane holds a master’s in Art History from Boston University and a master’s in Education from Harvard University. Born and raised in NH\, she has worked at some of the state’s most esteemed cultural institutions\, including the League of New Hampshire Craftsmen\, where she served as Executive Director\, and the Currier Museum of Art\, where she held the role of Senior Educator. Jane has also taught at the college level for more than a decade\, most recently at Southern New Hampshire University. For more information visit iamculturallycurious.com
URL:https://essexheritage.org/rev250/event/american-art-at-250-with-jane-oneail/
LOCATION:North Andover Historical Society\, 800 Massachusetts Ave\, North Andover\, MA\, 01845\, United States
ATTACH;FMTTYPE=image/jpeg:https://essexheritage.org/rev250/wp-content/uploads/sites/5/2026/03/unnamed.jpg
END:VEVENT
END:VCALENDAR