BEGIN:VCALENDAR
VERSION:2.0
PRODID:-//Rev 250 - ECPv6.15.18//NONSGML v1.0//EN
CALSCALE:GREGORIAN
METHOD:PUBLISH
X-ORIGINAL-URL:https://essexheritage.org/rev250
X-WR-CALDESC:Events for Rev 250
REFRESH-INTERVAL;VALUE=DURATION:PT1H
X-Robots-Tag:noindex
X-PUBLISHED-TTL:PT1H
BEGIN:VTIMEZONE
TZID:America/New_York
BEGIN:DAYLIGHT
TZOFFSETFROM:-0500
TZOFFSETTO:-0400
TZNAME:EDT
DTSTART:20250309T070000
END:DAYLIGHT
BEGIN:STANDARD
TZOFFSETFROM:-0400
TZOFFSETTO:-0500
TZNAME:EST
DTSTART:20251102T060000
END:STANDARD
BEGIN:DAYLIGHT
TZOFFSETFROM:-0500
TZOFFSETTO:-0400
TZNAME:EDT
DTSTART:20260308T070000
END:DAYLIGHT
BEGIN:STANDARD
TZOFFSETFROM:-0400
TZOFFSETTO:-0500
TZNAME:EST
DTSTART:20261101T060000
END:STANDARD
BEGIN:DAYLIGHT
TZOFFSETFROM:-0500
TZOFFSETTO:-0400
TZNAME:EDT
DTSTART:20270314T070000
END:DAYLIGHT
BEGIN:STANDARD
TZOFFSETFROM:-0400
TZOFFSETTO:-0500
TZNAME:EST
DTSTART:20271107T060000
END:STANDARD
END:VTIMEZONE
BEGIN:VEVENT
DTSTART;TZID=America/New_York:20260504T093000
DTEND;TZID=America/New_York:20260504T160000
DTSTAMP:20260420T114802
CREATED:20260326T192803Z
LAST-MODIFIED:20260326T194735Z
UID:10000741-1777887000-1777910400@essexheritage.org
SUMMARY:Revolutionary Library Crawl!
DESCRIPTION:It’s time for the Revolutionary Library Crawl! \nVisit ten libraries throughout Northeastern MA from April 21 through May 9 as we celebrate the 250th anniversary of the American Revolution. Visit an information desk at any of the participating libraries to pick up a crawl passport\, complete an activity\, and earn a passport stamp. Enjoy unique activities\, history\, and swag at each stop on your crawl. \n5 stamps or more on your passport qualify you for an entry into a prize raffle. One prize basket is available per age group: children\, teens\, & adults. Turn your passport in at any participating library by May 9 to be entered into the raffle. \nAll ages are welcome to participate. \nTHANK YOU to our collaborating crawl libraries: Boxford Town Library\, Peabody Institute Library (Danvers)\,  TOHP Burnham Public Library (Essex)\, Georgetown Peabody Library (Georgetown)\, Sawyer Free Library (Gloucester)\, Langley-Adams Library (Groveland)\, Ipswich Public Library\, Flint Public Library (Middleton)\, & Manchester-by-the-Sea Public Library. \nCLICK HERE to learn more!
URL:https://essexheritage.org/rev250/event/revolutionary-library-crawl-begins/2026-05-04/
LOCATION:Hamilton-Wenham Public Library\, 14 Union Street\,\, South Hamilton\, MA\, 01982\, United States
ATTACH;FMTTYPE=image/jpeg:https://essexheritage.org/rev250/wp-content/uploads/sites/5/2026/03/Library-Crawl-Logo-2026.jpg
END:VEVENT
END:VCALENDAR