BEGIN:VCALENDAR
VERSION:2.0
PRODID:-//Rev 250 - ECPv6.15.18//NONSGML v1.0//EN
CALSCALE:GREGORIAN
METHOD:PUBLISH
X-WR-CALNAME:Rev 250
X-ORIGINAL-URL:https://essexheritage.org/rev250
X-WR-CALDESC:Events for Rev 250
REFRESH-INTERVAL;VALUE=DURATION:PT1H
X-Robots-Tag:noindex
X-PUBLISHED-TTL:PT1H
BEGIN:VTIMEZONE
TZID:America/New_York
BEGIN:DAYLIGHT
TZOFFSETFROM:-0500
TZOFFSETTO:-0400
TZNAME:EDT
DTSTART:20250309T070000
END:DAYLIGHT
BEGIN:STANDARD
TZOFFSETFROM:-0400
TZOFFSETTO:-0500
TZNAME:EST
DTSTART:20251102T060000
END:STANDARD
BEGIN:DAYLIGHT
TZOFFSETFROM:-0500
TZOFFSETTO:-0400
TZNAME:EDT
DTSTART:20260308T070000
END:DAYLIGHT
BEGIN:STANDARD
TZOFFSETFROM:-0400
TZOFFSETTO:-0500
TZNAME:EST
DTSTART:20261101T060000
END:STANDARD
BEGIN:DAYLIGHT
TZOFFSETFROM:-0500
TZOFFSETTO:-0400
TZNAME:EDT
DTSTART:20270314T070000
END:DAYLIGHT
BEGIN:STANDARD
TZOFFSETFROM:-0400
TZOFFSETTO:-0500
TZNAME:EST
DTSTART:20271107T060000
END:STANDARD
END:VTIMEZONE
BEGIN:VEVENT
DTSTART;TZID=America/New_York:20260506T093000
DTEND;TZID=America/New_York:20260506T160000
DTSTAMP:20260420T114717
CREATED:20260326T192803Z
LAST-MODIFIED:20260326T194735Z
UID:10000743-1778059800-1778083200@essexheritage.org
SUMMARY:Revolutionary Library Crawl!
DESCRIPTION:It’s time for the Revolutionary Library Crawl! \nVisit ten libraries throughout Northeastern MA from April 21 through May 9 as we celebrate the 250th anniversary of the American Revolution. Visit an information desk at any of the participating libraries to pick up a crawl passport\, complete an activity\, and earn a passport stamp. Enjoy unique activities\, history\, and swag at each stop on your crawl. \n5 stamps or more on your passport qualify you for an entry into a prize raffle. One prize basket is available per age group: children\, teens\, & adults. Turn your passport in at any participating library by May 9 to be entered into the raffle. \nAll ages are welcome to participate. \nTHANK YOU to our collaborating crawl libraries: Boxford Town Library\, Peabody Institute Library (Danvers)\,  TOHP Burnham Public Library (Essex)\, Georgetown Peabody Library (Georgetown)\, Sawyer Free Library (Gloucester)\, Langley-Adams Library (Groveland)\, Ipswich Public Library\, Flint Public Library (Middleton)\, & Manchester-by-the-Sea Public Library. \nCLICK HERE to learn more!
URL:https://essexheritage.org/rev250/event/revolutionary-library-crawl-begins/2026-05-06/
LOCATION:Hamilton-Wenham Public Library\, 14 Union Street\,\, South Hamilton\, MA\, 01982\, United States
ATTACH;FMTTYPE=image/jpeg:https://essexheritage.org/rev250/wp-content/uploads/sites/5/2026/03/Library-Crawl-Logo-2026.jpg
END:VEVENT
BEGIN:VEVENT
DTSTART;TZID=America/New_York:20260506T180000
DTEND;TZID=America/New_York:20260506T190000
DTSTAMP:20260420T114717
CREATED:20260409T193800Z
LAST-MODIFIED:20260409T195710Z
UID:10000747-1778090400-1778094000@essexheritage.org
SUMMARY:"How to Feed an Army: In Search of a Bit of Gravy" with Foodways Historian Stacy Booth
DESCRIPTION:It is often said that the army marches on its stomach and it’s just as true during the 18th century as it is today. But how was the army supplied with that food? How was it cooked/processed? And\, in what ways did that differ from the everyday hearth cooked meals they ate at home? \nFoodways historian Stacy Booth will discuss how the Continental Army was fed and supplied. She will compare it to the food local housewives created at home and why that was important to provisioning of the soldiers themselves. \nStacy Booth is a foodways historian with almost 20 years of experience reenacting and presenting to the public. She specializes in 17th and 18th  century New England foodways presentations and cooking demonstrations. She worked previously at Plimoth Patuxet (formerly Plimoth Plantation) and Coggenshall Farm Museum as a 1st and 3rd person reenactor. Her experiences in Revolutionary War reenactment for the last 10 years have allowed her to travel far and wide participating in hearth campfire cooking as well as outdoor bread oven baking demonstrations. .
URL:https://essexheritage.org/rev250/event/how-to-feed-an-army-in-search-of-a-bit-of-gravy-with-foodways-historian-stacy-booth/
LOCATION:Andover Center for History and Culture\, 97 Main Street\, Andover\, MA\, 01970\, United States
ATTACH;FMTTYPE=image/jpeg:https://essexheritage.org/rev250/wp-content/uploads/sites/5/2026/04/b70e575f-7fbe-4715-9aea-c935c9d47120.jpg
END:VEVENT
BEGIN:VEVENT
DTSTART;TZID=America/New_York:20260506T190000
DTEND;TZID=America/New_York:20260506T203000
DTSTAMP:20260420T114717
CREATED:20260325T154157Z
LAST-MODIFIED:20260325T175358Z
UID:10000310-1778094000-1778099400@essexheritage.org
SUMMARY:Revolutionary Dwellings – Homes of Patriots and Loyalists in Marblehead
DESCRIPTION:Nearly every house in Marblehead that predates 1775 was the home of a serviceman in America’s Revolutionary War. An estimated 300 houses still survive\, even if modified by later generations\, out of perhaps 525 or so that existed as the war began\, when Marblehead was apparently still the sixth most populous metropolis in British North America. In June 1775\, nearly 600 men and teenage boys from those homes joined the Continental Army’s new “Marblehead Regiment” under Colonel John Glover\, which grew from the earlier rebel Patriot militia led by Colonel Jeremiah Lee until his death in May 1775. Starting in Autumn 1775\, hundreds of them would sail out as captains and crews of privateer vessels. And many would lose their lives that way. But the “prize” vessels they captured helped to supply and pay soldiers in the new nation’s struggling army\, and to outfit its fledgling navy. Over the course of the war’s eight long years\, an estimated total of 1\,400 or more would serve from this town of about 950 families–– all living in those 525 houses! Nearly all were Patriots\, as only about a dozen heads of households can be identified as Tories\, or Loyalists. And nearly every house was filled with women and many children who suffered greatly. It would take several generations for the town to fully recover–– and that was only briefly. But that is the reason so many pre-Revolutionary homes still survive. Come learn about where some of Mhd’s. Revolutionary heroes and their families lived. \nJudy Anderson is an independent social\, cultural\, and architectural historian who worked at the Marblehead Museum for 16 years\nas the organization’s first administrative director in 1994 and the only specified curator of the Jeremiah Lee Mansion from 2001-2010.
URL:https://essexheritage.org/rev250/event/revolutionary-dwellings-homes-of-patriots-and-loyalists-in-mhd/
LOCATION:Abbot Public Library\, 3 Brook Road\, Marblehead\, MA\, 01945\, United States
ATTACH;FMTTYPE=image/jpeg:https://essexheritage.org/rev250/wp-content/uploads/sites/5/2026/03/May-13-Rev-Houses.jpg
END:VEVENT
END:VCALENDAR