BEGIN:VCALENDAR
VERSION:2.0
PRODID:-//Rev 250 - ECPv6.15.18//NONSGML v1.0//EN
CALSCALE:GREGORIAN
METHOD:PUBLISH
X-WR-CALNAME:Rev 250
X-ORIGINAL-URL:https://essexheritage.org/rev250
X-WR-CALDESC:Events for Rev 250
REFRESH-INTERVAL;VALUE=DURATION:PT1H
X-Robots-Tag:noindex
X-PUBLISHED-TTL:PT1H
BEGIN:VTIMEZONE
TZID:America/New_York
BEGIN:DAYLIGHT
TZOFFSETFROM:-0500
TZOFFSETTO:-0400
TZNAME:EDT
DTSTART:20250309T070000
END:DAYLIGHT
BEGIN:STANDARD
TZOFFSETFROM:-0400
TZOFFSETTO:-0500
TZNAME:EST
DTSTART:20251102T060000
END:STANDARD
BEGIN:DAYLIGHT
TZOFFSETFROM:-0500
TZOFFSETTO:-0400
TZNAME:EDT
DTSTART:20260308T070000
END:DAYLIGHT
BEGIN:STANDARD
TZOFFSETFROM:-0400
TZOFFSETTO:-0500
TZNAME:EST
DTSTART:20261101T060000
END:STANDARD
BEGIN:DAYLIGHT
TZOFFSETFROM:-0500
TZOFFSETTO:-0400
TZNAME:EDT
DTSTART:20270314T070000
END:DAYLIGHT
BEGIN:STANDARD
TZOFFSETFROM:-0400
TZOFFSETTO:-0500
TZNAME:EST
DTSTART:20271107T060000
END:STANDARD
END:VTIMEZONE
BEGIN:VEVENT
DTSTART;TZID=America/New_York:20260617T190000
DTEND;TZID=America/New_York:20260617T203000
DTSTAMP:20260420T132742
CREATED:20260325T155437Z
LAST-MODIFIED:20260325T175442Z
UID:10000312-1781722800-1781728200@essexheritage.org
SUMMARY:Captain Samuel Russell Trevett\, Artillery Commander at Bunker Hill 1776
DESCRIPTION:The Battle of Bunker Hill on June 17\, 1775\, up above Charlestown\, just north of Boston\, early in the war\, is famous for several reasons. The battle\, the Revolutionary War’s first major combat involving cannons\, was a loss for the Americans\, but the British suffered a high number of casualties. One of the American revolution’s charismatic young leaders\, Dr. Joseph Warren\, a doctor and a Son of Liberty of Boston\, was also a significant loss\, as he was mortally wounded there. But a little-known episode involves a Marblehead artillery commander\, Captain Samuel Russel Trevett\, who fought valiantly and was the only American to lead his cannon company into the thick of the fray\, defying the orders of his superior officers. He also dragged a field-piece down off the hill as the American forces retreated. It was the only American cannon that was not captured by the enemy. Trevett\, however\, was falsely accused of his superior officer’s failures. Though he was exonerated soon after\, he never rejoined the army\, but served instead as a Captain aboard privateer vessels through the war’s end in 1782. \nDonald Doliber was appointed as Marblehead’s Town Historian after 24 years as an award-winning history teacher\, who was selected as the “Outstanding American History Teacher in the United States” by the Daughters of the American Revolution (D.A.R.)\, followed by 17 years as an assistant high school principal. His ancestors arrived in Marblehead in the 1630s and were fishermen\, selectmen\, and merchants in the early community\, and later\, a few served in the Revolutionary War. \nThis event is presented in collaboration with the Marblehead 250 Committee and Abbot Public Library.  \nThis program is funded in part by a grant from the Marblehead Cultural Council\, a local agency which is supported by the Massachusetts Cultural Council\, a state agency.
URL:https://essexheritage.org/rev250/event/captain-samuel-russell-trevett-artillery-commander-at-bunker-hill-1776/
LOCATION:Abbot Public Library\, 3 Brook Road\, Marblehead\, MA\, 01945\, United States
ATTACH;FMTTYPE=image/jpeg:https://essexheritage.org/rev250/wp-content/uploads/sites/5/2026/03/June-17-B-Hill-w-cannons-North-Wind-Picture-Archives.jpg
END:VEVENT
END:VCALENDAR