BEGIN:VCALENDAR
VERSION:2.0
PRODID:-//Rev 250 - ECPv6.15.18//NONSGML v1.0//EN
CALSCALE:GREGORIAN
METHOD:PUBLISH
X-WR-CALNAME:Rev 250
X-ORIGINAL-URL:https://essexheritage.org/rev250
X-WR-CALDESC:Events for Rev 250
REFRESH-INTERVAL;VALUE=DURATION:PT1H
X-Robots-Tag:noindex
X-PUBLISHED-TTL:PT1H
BEGIN:VTIMEZONE
TZID:America/New_York
BEGIN:DAYLIGHT
TZOFFSETFROM:-0500
TZOFFSETTO:-0400
TZNAME:EDT
DTSTART:20240310T070000
END:DAYLIGHT
BEGIN:STANDARD
TZOFFSETFROM:-0400
TZOFFSETTO:-0500
TZNAME:EST
DTSTART:20241103T060000
END:STANDARD
BEGIN:DAYLIGHT
TZOFFSETFROM:-0500
TZOFFSETTO:-0400
TZNAME:EDT
DTSTART:20250309T070000
END:DAYLIGHT
BEGIN:STANDARD
TZOFFSETFROM:-0400
TZOFFSETTO:-0500
TZNAME:EST
DTSTART:20251102T060000
END:STANDARD
BEGIN:DAYLIGHT
TZOFFSETFROM:-0500
TZOFFSETTO:-0400
TZNAME:EDT
DTSTART:20260308T070000
END:DAYLIGHT
BEGIN:STANDARD
TZOFFSETFROM:-0400
TZOFFSETTO:-0500
TZNAME:EST
DTSTART:20261101T060000
END:STANDARD
END:VTIMEZONE
BEGIN:VEVENT
DTSTART;TZID=America/New_York:20250127T120000
DTEND;TZID=America/New_York:20250127T130000
DTSTAMP:20260420T143108
CREATED:20250110T143847Z
LAST-MODIFIED:20250123T172103Z
UID:10000074-1737979200-1737982800@essexheritage.org
SUMMARY:Lunchtime History Films -  Massachusetts Militias\, Colonials\, and British of 1775
DESCRIPTION:How militias were formed and implemented \nA casual discussion and 20-30 minute film. Presented by Heritage Films\, Dan Tremblay\, volunteer and member of DHS. Share your knowledge in casual conversation. Bring your lunch\, tables are available. \nBring your lunch! \nNEW for 2025: Partnering with the Danvers Senior Center to offer more films \nTapley Memorial Hall\, 13 Page Street\, Danvers MA. \nFree Admission. Donations appreciated. \n  \n \n 
URL:https://essexheritage.org/rev250/event/lunchtime-history-films-massachusetts-militias-colonials-and-british-of-1775/
LOCATION:Tapley Memorial Hall\, 13 Page Street\, Danvers\, MA\, 01923\, United States
ATTACH;FMTTYPE=image/jpeg:https://essexheritage.org/rev250/wp-content/uploads/sites/5/2025/01/Rev250Danvers-e1704911795790.jpg
END:VEVENT
END:VCALENDAR