BEGIN:VCALENDAR
VERSION:2.0
PRODID:-//Rev 250 - ECPv6.15.18//NONSGML v1.0//EN
CALSCALE:GREGORIAN
METHOD:PUBLISH
X-WR-CALNAME:Rev 250
X-ORIGINAL-URL:https://essexheritage.org/rev250
X-WR-CALDESC:Events for Rev 250
REFRESH-INTERVAL;VALUE=DURATION:PT1H
X-Robots-Tag:noindex
X-PUBLISHED-TTL:PT1H
BEGIN:VTIMEZONE
TZID:America/New_York
BEGIN:DAYLIGHT
TZOFFSETFROM:-0500
TZOFFSETTO:-0400
TZNAME:EDT
DTSTART:20250309T070000
END:DAYLIGHT
BEGIN:STANDARD
TZOFFSETFROM:-0400
TZOFFSETTO:-0500
TZNAME:EST
DTSTART:20251102T060000
END:STANDARD
BEGIN:DAYLIGHT
TZOFFSETFROM:-0500
TZOFFSETTO:-0400
TZNAME:EDT
DTSTART:20260308T070000
END:DAYLIGHT
BEGIN:STANDARD
TZOFFSETFROM:-0400
TZOFFSETTO:-0500
TZNAME:EST
DTSTART:20261101T060000
END:STANDARD
BEGIN:DAYLIGHT
TZOFFSETFROM:-0500
TZOFFSETTO:-0400
TZNAME:EDT
DTSTART:20270314T070000
END:DAYLIGHT
BEGIN:STANDARD
TZOFFSETFROM:-0400
TZOFFSETTO:-0500
TZNAME:EST
DTSTART:20271107T060000
END:STANDARD
END:VTIMEZONE
BEGIN:VEVENT
DTSTART;TZID=America/New_York:20260206T190000
DTEND;TZID=America/New_York:20260206T203000
DTSTAMP:20260420T114805
CREATED:20260122T200910Z
LAST-MODIFIED:20260122T201015Z
UID:10000293-1770404400-1770409800@essexheritage.org
SUMMARY:Newburyport's Road to Independence\, Part II: Québec 1775-1776: The Last Siege
DESCRIPTION:During the first months of the War of Independence\, the Continental Army set its sights on the Province of Quebec. This British colony\, born from the ashes of New France\, is equally a threat and an opportunity for the Thirteen Colonies. How did the Canadian population react to the invasion of their territory? How did this first major campaign unfold? Focusing on the events surrounding Québec City\, discover the efforts to capture it\, from Benedict Arnold’s fateful expedition in the wilderness\, to the siege of the city in 1775\, the Battle of Québec on Dec. 31\, 1775\, and the departure of the Continental Army in May 1776. \nLuc Nicole-Labrie has been a historian and historical interpretation coordinator for the National Battlefields Commission since 2007. He has an academic background in history\, tourism\, and culture. He has contributed to numerous educational activities\, exhibitions\, lectures\, articles\, and guided tours on the events surrounding the Battles of the Plains of Abraham and Sainte-Foy\, as well as the history of the Plains of Abraham and Québec City. \nCLICK HERE to reserve tickets \nPlease note: for questions on tickets\, please contact the Museum of Old Newbury. Sponsored by the Massachusetts Office of Travel and Tourism.
URL:https://essexheritage.org/rev250/event/newburyports-road-to-independence-part-ii-quebec-1775-1776-the-last-siege/
LOCATION:St. Paul’s Episcopal Church\, 166 High Street\, Newburyport\, MA\, 01950\, United States
ATTACH;FMTTYPE=image/jpeg:https://essexheritage.org/rev250/wp-content/uploads/sites/5/2026/01/https___cdn.evbuc_.com_images_1175103674_166848231891_1_original.jpg
END:VEVENT
BEGIN:VEVENT
DTSTART;TZID=America/New_York:20260226T100000
DTEND;TZID=America/New_York:20260226T103000
DTSTAMP:20260420T114805
CREATED:20260219T194300Z
LAST-MODIFIED:20260225T152611Z
UID:10000301-1772100000-1772101800@essexheritage.org
SUMMARY:CANCELLED Leslie's Retreat Memorial Dedication
DESCRIPTION:Join us as we honor the 251st anniversary of Leslie’s Retreat with the dedication of a new monument. This significant addition to our community will preserve the memory of this important historical event for generations to come.\nThe dedication ceremony will feature remarks from local historians and community leaders. We hope you’ll be part of this meaningful occasion as we come together to remember and reflect on this chapter of our shared history. \nTHIS EVENT HAD BEEN CANCELLED DUE TO RECENT SNOWSTORMS
URL:https://essexheritage.org/rev250/event/leslies-retreat-memorial-dedication/
LOCATION:Leslie’s Retreat Memorial\, 8 North Street\, Salem\, MA\, 01970\, United States
ATTACH;FMTTYPE=image/png:https://essexheritage.org/rev250/wp-content/uploads/sites/5/2024/11/SALEM-400-logo-RGB.png
ORGANIZER;CN="Salem 400+":MAILTO:salem400@salem.com
END:VEVENT
BEGIN:VEVENT
DTSTART;TZID=America/New_York:20260228T190000
DTEND;TZID=America/New_York:20260228T203000
DTSTAMP:20260420T114805
CREATED:20260220T171339Z
LAST-MODIFIED:20260220T171518Z
UID:10000302-1772305200-1772310600@essexheritage.org
SUMMARY:Fashioning for Freedom: Layers of Liberty
DESCRIPTION:Join History Alive and Hamilton Hall for a celebratory\, historical runway of Black creativity and activism. Discover the stories of abolitionists\, artists\, and entrepreneurs — from 18th century figures like Jenny Slew and King Pompey Mansfield to trailblazers including members of the Remond family\, Anna Douglass\, Charlotte Forten\, and Edmonia Lewis — who helped shape American history. Along the way\, explore surprising connections to John Adams and the liberty rod and cap so popular during the Revolution. Together\, these stories illuminate the many ways that creative and talented historical figures “fashioned” their own unique expressions of freedom. All tickets include light refreshments during intermission. \nCLICK HERE to purchase tickets
URL:https://essexheritage.org/rev250/event/fashioning-for-freedom-layers-of-liberty/
LOCATION:Hamilton Hall\, 9 Chestnut Street\, Salem\, MA\, 01970\, United States
ATTACH;FMTTYPE=image/jpeg:https://essexheritage.org/rev250/wp-content/uploads/sites/5/2026/02/images.jpg
END:VEVENT
END:VCALENDAR